BEGIN:VCALENDAR
VERSION:2.0
PRODID:-//Zen Nutrition Academy - ECPv6.10.1.1//NONSGML v1.0//EN
CALSCALE:GREGORIAN
METHOD:PUBLISH
X-ORIGINAL-URL:https://zenutrition.it
X-WR-CALDESC:Eventi per Zen Nutrition Academy
REFRESH-INTERVAL;VALUE=DURATION:PT1H
X-Robots-Tag:noindex
X-PUBLISHED-TTL:PT1H
BEGIN:VTIMEZONE
TZID:UTC
BEGIN:STANDARD
TZOFFSETFROM:+0000
TZOFFSETTO:+0000
TZNAME:UTC
DTSTART:20230101T000000
END:STANDARD
END:VTIMEZONE
BEGIN:VEVENT
DTSTART;TZID=UTC:20230730T080000
DTEND;TZID=UTC:20230730T120000
DTSTAMP:20260422T234300
CREATED:20230726T080048Z
LAST-MODIFIED:20231007T161832Z
UID:809-1690704000-1690718400@zenutrition.it
SUMMARY:Seminario di Dantian Qigong
DESCRIPTION:Dan Tian\, che letteralmente significa “cinabro o campo rosso” si riferisce ai punti focali del corpo che corrispondono a ciò che i saggi taoisti descrivono come i Campi di Elisir. Secondo la leggenda\, i Dan Tian sono “i palazzi degli dei” nel corpo. Si diceva che il mantenimento del Qi in libera circolazione attraverso queste aree assicurasse che gli dei mantenessero la residenza nel corpo e consentissero alla persona di avere una vita lunga e sana. Se la circolazione del Qi si ostruiva\, gli Dei se ne sarebbero andati assicurando la malattia e una morte prematura.‌Il Dan Tian inferiore\, situato nel basso addome tra l’ombelico e l’osso pubico\, corrisponde alle funzioni fisiche di digestione\, eliminazione e riproduzione. Psicologicamente funziona come il nostro senso di stabilità ed equilibrio e come connessione alla nostra sessualità. Parlando specificamente del più basso dei tre punti\, il termine Dan Tian è spesso usato in modo intercambiabile con la parola giapponese Hara che letteralmente significa semplicemente “pancia”. ‌Nella tradizione cinese e giapponese è considerato il centro fisico di gravità del corpo umano e per estensione la sede della propria energia interna (Qi). Un maestro della calligrafia\, dell’arte della spada\, della cerimonia del tè\, delle arti marziali o di discipline simili è ritenuto\, nella tradizione giapponese\, “agire dall’hara”. Dan Tian Qigong usa il respiro\, la meditazione e il movimento per attivare la circolazione del qi e del sangue nel Dantian inferiore. \n‌Cosa studierai: \n🧘‌una meditazione molto antica per attivare e controllare la propria energia🧎‌una sequenza di 7 semplici movimenti di Qigong per accumulare energia nell’addome🧍‌una pratica di respirazione in piedi per energizzare il corpo e calmare la mente🚶‌una sequenza di 10 movimenti del Taiji dello stile Chen per imparare a distribuire l’energia accumulata in tutto il sistema mente corpo. \n‌A chi è rivolto il seminario: \n1️⃣Praticanti di Qi Gong\, Tai Chi\, yoga e meditazione che cercano modi delicati e altamente efficaci per raggiungere stati meditativi profondi e accrescere il flusso di energia. 2️⃣Persone che vogliono rinforzare il proprio corpo per guarire da problemi respiratori\, sonno agitato\, depressione\, ansia\, pensiero eccessivo\, bassa energia\, irrequietezza e altro ancora. 3️⃣Atleti e professionisti del benessere\, che desiderano un modo semplice per esprimersi al massimo delle loro capacità. (E a rilassarsi dopo una lunga giornata di lavoro).4️⃣Coloro che vogliono sentirsi più rilassati\, vigili ed emotivamente equilibrati. Chiunque abbia un corpo e una mente sani che desideri utilizzare tecniche naturali che migliorano la vita per potenziare se stessi.
URL:https://zenutrition.it/evento/seminario-di-dantian-qigong/
CATEGORIES:Seminari,Tai chi quan - Qi Gong
ATTACH;FMTTYPE=image/jpeg:https://zenutrition.it/wp-content/uploads/2023/07/Copertina-Dantian-Qigong.jpg
ORGANIZER;CN="Salvatore Serrapica":MAILTO:salvatore.serrapica@zenutrition.it
END:VEVENT
END:VCALENDAR