BEGIN:VCALENDAR
VERSION:2.0
PRODID:-//Zen Nutrition Academy - ECPv6.10.1.1//NONSGML v1.0//EN
CALSCALE:GREGORIAN
METHOD:PUBLISH
X-WR-CALNAME:Zen Nutrition Academy
X-ORIGINAL-URL:https://zenutrition.it
X-WR-CALDESC:Eventi per Zen Nutrition Academy
REFRESH-INTERVAL;VALUE=DURATION:PT1H
X-Robots-Tag:noindex
X-PUBLISHED-TTL:PT1H
BEGIN:VTIMEZONE
TZID:UTC
BEGIN:STANDARD
TZOFFSETFROM:+0000
TZOFFSETTO:+0000
TZNAME:UTC
DTSTART:20230101T000000
END:STANDARD
END:VTIMEZONE
BEGIN:VEVENT
DTSTART;TZID=UTC:20231007T080000
DTEND;TZID=UTC:20231007T170000
DTSTAMP:20260422T234748
CREATED:20231007T162313Z
LAST-MODIFIED:20231007T162800Z
UID:1066-1696665600-1696698000@zenutrition.it
SUMMARY:Corsi Zen Nutrition Academy
DESCRIPTION:Dal mese di Ottobre\, partiranno i corsi della Zen Nutrition Academy: \n\nCorso di respirazione (Lunedì e Giovedì – ore 17.00)\nCorso di Tai Chi\, QiGong posturale e Shaolin (Lunedì e Giovedì – Ore 18.00)\nCorso di Yoga – Ore (Lunedì e Giovedì – Ore 19.00)\nCorso di Yoga (Martedì e Venerdì – Ore 10.00)
URL:https://zenutrition.it/evento/corsi-zen-nutrition-academy/
LOCATION:Zen Nutrition Academy\, Via Bari\, 2\, Miggiano\, 73035\, Italia
CATEGORIES:Corsi,Meditazione,Tai chi quan - Qi Gong,Yoga
ATTACH;FMTTYPE=image/jpeg:https://zenutrition.it/wp-content/uploads/2023/10/corsi-zen-nutrition-academy-ottobre2023.jpg
ORGANIZER;CN="Salvatore Serrapica":MAILTO:salvatore.serrapica@zenutrition.it
END:VEVENT
END:VCALENDAR